BEGIN:VCALENDAR
VERSION:2.0
PRODID:-// - ECPv5.16.3.1//NONSGML v1.0//EN
CALSCALE:GREGORIAN
METHOD:PUBLISH
X-ORIGINAL-URL:http://juviasteas.sydneymehre.com
X-WR-CALDESC:Events for 
REFRESH-INTERVAL;VALUE=DURATION:PT1H
X-Robots-Tag:noindex
X-PUBLISHED-TTL:PT1H
BEGIN:VTIMEZONE
TZID:UTC
BEGIN:STANDARD
TZOFFSETFROM:+0000
TZOFFSETTO:+0000
TZNAME:UTC
DTSTART:20220101T000000
END:STANDARD
END:VTIMEZONE
BEGIN:VEVENT
DTSTART;TZID=UTC:20220710T110000
DTEND;TZID=UTC:20220710T123000
DTSTAMP:20260422T214600
CREATED:20220723T013843Z
LAST-MODIFIED:20220723T013843Z
UID:422-1657450800-1657456200@juviasteas.sydneymehre.com
SUMMARY:Local Tea Party
DESCRIPTION:Juvia’s Teas is having a tea party July 10th\, 11:00 A.M. at Longwood Gardens\, Kennett Square\, PA if you are in the area and would love to stop by for some tea tasting. Tea\, tea cakes\, and sandwiches will be provided. Stop by with family and friends we would love to see you there! No fee of charge to join.
URL:http://juviasteas.sydneymehre.com/event/local-tea-party/
LOCATION:Longwood Gardens\, 1001 Longwood Rd.\, Kennett Square\, PA\, 19348\, United States
CATEGORIES:outdoor
ATTACH;FMTTYPE=image/jpeg:http://juviasteas.sydneymehre.com/wp-content/uploads/2022/07/download.jpg
END:VEVENT
END:VCALENDAR